BEGIN:VCALENDAR
VERSION:2.0
PRODID:-//Maryland SPCA - ECPv6.15.20//NONSGML v1.0//EN
CALSCALE:GREGORIAN
METHOD:PUBLISH
X-WR-CALNAME:Maryland SPCA
X-ORIGINAL-URL:https://mdspca.org
X-WR-CALDESC:Events for Maryland SPCA
REFRESH-INTERVAL;VALUE=DURATION:PT1H
X-Robots-Tag:noindex
X-PUBLISHED-TTL:PT1H
BEGIN:VTIMEZONE
TZID:America/New_York
BEGIN:DAYLIGHT
TZOFFSETFROM:-0500
TZOFFSETTO:-0400
TZNAME:EDT
DTSTART:20250309T070000
END:DAYLIGHT
BEGIN:STANDARD
TZOFFSETFROM:-0400
TZOFFSETTO:-0500
TZNAME:EST
DTSTART:20251102T060000
END:STANDARD
BEGIN:DAYLIGHT
TZOFFSETFROM:-0500
TZOFFSETTO:-0400
TZNAME:EDT
DTSTART:20260308T070000
END:DAYLIGHT
BEGIN:STANDARD
TZOFFSETFROM:-0400
TZOFFSETTO:-0500
TZNAME:EST
DTSTART:20261101T060000
END:STANDARD
BEGIN:DAYLIGHT
TZOFFSETFROM:-0500
TZOFFSETTO:-0400
TZNAME:EDT
DTSTART:20270314T070000
END:DAYLIGHT
BEGIN:STANDARD
TZOFFSETFROM:-0400
TZOFFSETTO:-0500
TZNAME:EST
DTSTART:20271107T060000
END:STANDARD
END:VTIMEZONE
BEGIN:VEVENT
DTSTART;TZID=America/New_York:20260424T120000
DTEND;TZID=America/New_York:20260424T170000
DTSTAMP:20260419T104059
CREATED:20260324T142843Z
LAST-MODIFIED:20260415T200209Z
UID:39727-1777032000-1777050000@mdspca.org
SUMMARY:Sip N' Shop
DESCRIPTION:
URL:https://mdspca.org/event/sip-n-shop-2/
LOCATION:J. McLaughlin\, 7623 Bellona Ave\, Ruxton\, MD\, 21204\, United States
ATTACH;FMTTYPE=image/jpeg:https://mdspca.org/wp-content/uploads/2026/03/SPCA-2026-Evite-1.jpg
END:VEVENT
BEGIN:VEVENT
DTSTART;TZID=America/New_York:20260426T120000
DTEND;TZID=America/New_York:20260426T140000
DTSTAMP:20260419T104059
CREATED:20260324T142953Z
LAST-MODIFIED:20260415T200530Z
UID:39730-1777204800-1777212000@mdspca.org
SUMMARY:Kitten Yoga
DESCRIPTION:
URL:https://mdspca.org/event/kitten-yoga-042626/
LOCATION:Union Craft Brewing\, 1700 W 41st St #420\, Baltimore\, MD\, 21211\, United States
ATTACH;FMTTYPE=image/jpeg:https://mdspca.org/wp-content/uploads/2026/03/KittenYoga2026.jpg
END:VEVENT
BEGIN:VEVENT
DTSTART;TZID=America/New_York:20260502T110000
DTEND;TZID=America/New_York:20260502T140000
DTSTAMP:20260419T104059
CREATED:20260324T143104Z
LAST-MODIFIED:20260415T200809Z
UID:39732-1777719600-1777730400@mdspca.org
SUMMARY:Belvedere in Bloom
DESCRIPTION:
URL:https://mdspca.org/event/belvedere-in-bloom/
LOCATION:Belvedere Square\, 529 E Belvedere Ave\, Baltimore\, MD\, 21212\, United States
ATTACH;FMTTYPE=image/jpeg:https://mdspca.org/wp-content/uploads/2026/03/Copy-of-Belvedere-in-Bloom1.jpg
END:VEVENT
BEGIN:VEVENT
DTSTART;TZID=America/New_York:20260508T190500
DTEND;TZID=America/New_York:20260508T230000
DTSTAMP:20260419T104059
CREATED:20260324T143529Z
LAST-MODIFIED:20260415T200856Z
UID:39735-1778267100-1778281200@mdspca.org
SUMMARY:Orioles Fundraiser
DESCRIPTION:
URL:https://mdspca.org/event/orioles-fundraiser/
LOCATION:Oriole Park at Camden Yards\, 333 West Camden Street\, Baltimore\, MD\, 21201\, United States
ATTACH;FMTTYPE=image/jpeg:https://mdspca.org/wp-content/uploads/2026/03/Orioles-vs-Athletics-no-bobble-flyer.jpg
END:VEVENT
BEGIN:VEVENT
DTSTART;TZID=America/New_York:20260509T130000
DTEND;TZID=America/New_York:20260509T160000
DTSTAMP:20260419T104059
CREATED:20260415T184101Z
LAST-MODIFIED:20260415T184101Z
UID:39810-1778331600-1778342400@mdspca.org
SUMMARY:Wiggle Waggle Walk
DESCRIPTION:
URL:https://mdspca.org/event/wiggle-waggle-walk/
LOCATION:North Point Edgemer Volunteer Fire Department\, 7500 NORTH POINT RD\, Baltimore\, MD\, 21219\, United States
ATTACH;FMTTYPE=image/jpeg:https://mdspca.org/wp-content/uploads/2026/04/Wiggle-Waggle-Walk-2026.jpg
END:VEVENT
BEGIN:VEVENT
DTSTART;TZID=America/New_York:20260516T100000
DTEND;TZID=America/New_York:20260516T140000
DTSTAMP:20260419T104059
CREATED:20260415T195238Z
LAST-MODIFIED:20260415T195238Z
UID:39814-1778925600-1778940000@mdspca.org
SUMMARY:Adoption Event
DESCRIPTION:
URL:https://mdspca.org/event/adoption-event/
LOCATION:Koons Volvo Cars of White Marsh\, 5395 Nottingham Dr\, White Marsh\, MD\, 21162\, United States
ATTACH;FMTTYPE=image/jpeg:https://mdspca.org/wp-content/uploads/2025/12/Event-Placeholder-2026.jpg
END:VEVENT
BEGIN:VEVENT
DTSTART;TZID=America/New_York:20260517T100000
DTEND;TZID=America/New_York:20260517T140000
DTSTAMP:20260419T104059
CREATED:20260415T195633Z
LAST-MODIFIED:20260415T195633Z
UID:39817-1779012000-1779026400@mdspca.org
SUMMARY:Kindness For Paws Art Sale
DESCRIPTION:
URL:https://mdspca.org/event/kindness-for-paws-art-sale/
LOCATION:White Marsh Mall\, 8200 Perry Hall Blvd\, Baltimore\, MD\, 21236\, United States
ATTACH;FMTTYPE=image/jpeg:https://mdspca.org/wp-content/uploads/2026/04/KFP-eventflyer-4x5-2026-scaled.jpg
END:VEVENT
BEGIN:VEVENT
DTSTART;TZID=America/New_York:20260530T100000
DTEND;TZID=America/New_York:20260530T140000
DTSTAMP:20260419T104059
CREATED:20260415T195818Z
LAST-MODIFIED:20260415T195818Z
UID:39821-1780135200-1780149600@mdspca.org
SUMMARY:Caturday
DESCRIPTION:
URL:https://mdspca.org/event/caturday-2/
LOCATION:Baltimore County Public Library – White Marsh\, 8133 Sandpiper Cir\, Baltimore\, MD\, 21236\, United States
ATTACH;FMTTYPE=image/jpeg:https://mdspca.org/wp-content/uploads/2025/12/Event-Placeholder-2026.jpg
END:VEVENT
BEGIN:VEVENT
DTSTART;TZID=America/New_York:20260531T100000
DTEND;TZID=America/New_York:20260531T140000
DTSTAMP:20260419T104059
CREATED:20260415T195923Z
LAST-MODIFIED:20260415T195923Z
UID:39824-1780221600-1780236000@mdspca.org
SUMMARY:Mt. Washington Farmers Market
DESCRIPTION:
URL:https://mdspca.org/event/mt-washington-farmers-market/
LOCATION:Mt. Washington Farmers Market\, 2101 Rogers Avenue\, Baltimore\, MD\, 21209\, United States
ATTACH;FMTTYPE=image/jpeg:https://mdspca.org/wp-content/uploads/2025/12/Event-Placeholder-2026.jpg
END:VEVENT
END:VCALENDAR